BEGIN:VCALENDAR
VERSION:2.0
PRODID:-//Netwerk Muziekdocenten Pabo - ECPv6.6.4//NONSGML v1.0//EN
CALSCALE:GREGORIAN
METHOD:PUBLISH
X-ORIGINAL-URL:https://netwerkmuziekdocentenpabo.nl
X-WR-CALDESC:Evenementen voor Netwerk Muziekdocenten Pabo
REFRESH-INTERVAL;VALUE=DURATION:PT1H
X-Robots-Tag:noindex
X-PUBLISHED-TTL:PT1H
BEGIN:VTIMEZONE
TZID:Europe/Amsterdam
BEGIN:DAYLIGHT
TZOFFSETFROM:+0100
TZOFFSETTO:+0200
TZNAME:CEST
DTSTART:20170326T010000
END:DAYLIGHT
BEGIN:STANDARD
TZOFFSETFROM:+0200
TZOFFSETTO:+0100
TZNAME:CET
DTSTART:20171029T010000
END:STANDARD
BEGIN:DAYLIGHT
TZOFFSETFROM:+0100
TZOFFSETTO:+0200
TZNAME:CEST
DTSTART:20180325T010000
END:DAYLIGHT
BEGIN:STANDARD
TZOFFSETFROM:+0200
TZOFFSETTO:+0100
TZNAME:CET
DTSTART:20181028T010000
END:STANDARD
BEGIN:DAYLIGHT
TZOFFSETFROM:+0100
TZOFFSETTO:+0200
TZNAME:CEST
DTSTART:20190331T010000
END:DAYLIGHT
BEGIN:STANDARD
TZOFFSETFROM:+0200
TZOFFSETTO:+0100
TZNAME:CET
DTSTART:20191027T010000
END:STANDARD
BEGIN:DAYLIGHT
TZOFFSETFROM:+0100
TZOFFSETTO:+0200
TZNAME:CEST
DTSTART:20200329T010000
END:DAYLIGHT
BEGIN:STANDARD
TZOFFSETFROM:+0200
TZOFFSETTO:+0100
TZNAME:CET
DTSTART:20201025T010000
END:STANDARD
END:VTIMEZONE
BEGIN:VEVENT
DTSTART;VALUE=DATE:20200406
DTEND;VALUE=DATE:20200409
DTSTAMP:20260421T163747
CREATED:20190928T180044Z
LAST-MODIFIED:20200317T090044Z
UID:1276-1586152800-1586325599@netwerkmuziekdocentenpabo.nl
SUMMARY:AFGELAST - Studietweedaagse 6 en 7 april 2020\, Hogeschool Windesheim Zwolle
DESCRIPTION:Vanwege de sluiting van de hogescholen\, kan de studie-tweedaagse van ons netwerk helaas geen doorgang vinden op 6 en 7 april. Het bestuur zoekt naar een alternatief. Meer informatie volgt binnenkort. \n  \nOp 6 en 7 april 2020 vindt de jaarlijkse studietweedaagse van het Netwerk Muziekdocenten Pabo’s plaats in hanzestad Zwolle.\n Liewe Noordam en collega’s zullen ons ontvangen op de pabo van Hogeschool Windesheim. Aanmelden is vanaf nu mogelijk via onderstaande aanmeldknop. \nConcept programma\nMaandag (09:00 inloop\, ±17:00 einde dagprogramma)\n De maandag biedt een programma dat aandacht besteedt aan ons vak in het nieuwe curriculum. Hoe kunnen we muziek zichtbaar houden in een leergebied dat de kunstdisciplines\, waarbij de ontwikkelaars het woord muziek nauwelijks noemen? Hoe zien uitgewerkte bouwstenen eruit waar muziek met andere vakken integreert? Wat is eigenlijk de huidige stand van zaken ten aanzien van kennis over vakintegratie?\n Naast informatiedeling\, discussie en ontspanning\, zijn er spoedcursussen gericht op DJ-ing en Producing.\n Er is bovendien een avondprogramma\, waarin je wordt ondergedompeld in een bombastische\, muzikale montage-carrousel van verhalen en moralen (onder voorbehoud). \nDinsdag (09:00 ALV (alleen leden)\, 10:15 inloop\, 16:00 einde studiedagen)\n Op de dinsdag staat het (improviserend) musiceren centraal. Dit vraagt een musiceer-inspanning van alle deelnemers\, waarvoor ieder vriendelijk\, doch dringend wordt verzocht zijn/haar instrument mee te nemen. Nadat we er gezamenlijk voor hebben gezorgd dat de muziek er is\, volgt deling van kennis en ervaringen in het kader van de FCP-regeling.\n Voor leden is er voorafgaand een algemene ledenvergadering met het jaarverslag als te verwachten climax. \n \nAanmelden\nMeld je uiterlijk tot 2 maart 2020 aan via de onderstaande knop of via de volgende link: https://forms.gle/n9FGq5RYe994o8QM7   \nLET OP! Ook na 2 maart kun je je nog aanmelden (tot uiterlijk 30 maart)\, maar voor het avondprogramma op 6 april en de hotelovernachting moet je dan zelf respectievelijk een kaartje boeken en eventueel een hotelkamer.\n Leden van het NMP kunnen dit achteraf declareren bij de penningmeester. \nWe zien uit naar jullie aanmeldingen. \n \nAlvast een kijkje nemen op Hogeschool Windesheim?. \nhttps://youtu.be/WfibSnO7WB4
URL:https://netwerkmuziekdocentenpabo.nl/event/studietweedaagse-6-7-april-2020-hogeschool-windesheim-zwolle/
ATTACH;FMTTYPE=image/gif:https://netwerkmuziekdocentenpabo.nl/wp-content/uploads/2019/09/Intern-klantonderzoek-Windesheim.gif
END:VEVENT
BEGIN:VEVENT
DTSTART;TZID=Europe/Amsterdam:20170531T080000
DTEND;TZID=Europe/Amsterdam:20170531T170000
DTSTAMP:20260421T163747
CREATED:20170531T093144Z
LAST-MODIFIED:20170531T093315Z
UID:832-1496217600-1496250000@netwerkmuziekdocentenpabo.nl
SUMMARY:NMP studie-tweedaagse 11 en 12 april 2018
DESCRIPTION:De studie-tweedaagse vindt plaats op woensdag 11 en donderdag 12 april 2018. We zijn te gast op de pabo van Hogeschool Leiden. Meer info over het programma\, tijden etc. volgt…
URL:https://netwerkmuziekdocentenpabo.nl/event/studie-tweedaagse-11-en-12-april-2018/
LOCATION:Pabo Hogeschool Leiden\, Zernikedreef 11\, Leiden\, 2333 CK \, Nederland
ATTACH;FMTTYPE=image/jpeg:https://netwerkmuziekdocentenpabo.nl/wp-content/uploads/2016/12/studiedag-april-2014-4.jpg
ORGANIZER;CN="Netwerk Muziekdocenten Pabo":MAILTO:admin@netwerkmuziekdocentenpabo.nl
END:VEVENT
END:VCALENDAR